BEGIN:VCALENDAR
VERSION:2.0
PRODID:-//Go Green Illinois - ECPv6.15.20//NONSGML v1.0//EN
CALSCALE:GREGORIAN
METHOD:PUBLISH
X-WR-CALNAME:Go Green Illinois
X-ORIGINAL-URL:https://www.gogreenillinois.org
X-WR-CALDESC:Events for Go Green Illinois
REFRESH-INTERVAL;VALUE=DURATION:PT1H
X-Robots-Tag:noindex
X-PUBLISHED-TTL:PT1H
BEGIN:VTIMEZONE
TZID:America/Chicago
BEGIN:DAYLIGHT
TZOFFSETFROM:-0600
TZOFFSETTO:-0500
TZNAME:CDT
DTSTART:20180311T080000
END:DAYLIGHT
BEGIN:STANDARD
TZOFFSETFROM:-0500
TZOFFSETTO:-0600
TZNAME:CST
DTSTART:20181104T070000
END:STANDARD
BEGIN:DAYLIGHT
TZOFFSETFROM:-0600
TZOFFSETTO:-0500
TZNAME:CDT
DTSTART:20190310T080000
END:DAYLIGHT
BEGIN:STANDARD
TZOFFSETFROM:-0500
TZOFFSETTO:-0600
TZNAME:CST
DTSTART:20191103T070000
END:STANDARD
BEGIN:DAYLIGHT
TZOFFSETFROM:-0600
TZOFFSETTO:-0500
TZNAME:CDT
DTSTART:20200308T080000
END:DAYLIGHT
BEGIN:STANDARD
TZOFFSETFROM:-0500
TZOFFSETTO:-0600
TZNAME:CST
DTSTART:20201101T070000
END:STANDARD
BEGIN:DAYLIGHT
TZOFFSETFROM:-0600
TZOFFSETTO:-0500
TZNAME:CDT
DTSTART:20210314T080000
END:DAYLIGHT
BEGIN:STANDARD
TZOFFSETFROM:-0500
TZOFFSETTO:-0600
TZNAME:CST
DTSTART:20211107T070000
END:STANDARD
BEGIN:DAYLIGHT
TZOFFSETFROM:-0600
TZOFFSETTO:-0500
TZNAME:CDT
DTSTART:20220313T080000
END:DAYLIGHT
BEGIN:STANDARD
TZOFFSETFROM:-0500
TZOFFSETTO:-0600
TZNAME:CST
DTSTART:20221106T070000
END:STANDARD
BEGIN:DAYLIGHT
TZOFFSETFROM:-0600
TZOFFSETTO:-0500
TZNAME:CDT
DTSTART:20230312T080000
END:DAYLIGHT
BEGIN:STANDARD
TZOFFSETFROM:-0500
TZOFFSETTO:-0600
TZNAME:CST
DTSTART:20231105T070000
END:STANDARD
BEGIN:DAYLIGHT
TZOFFSETFROM:-0600
TZOFFSETTO:-0500
TZNAME:CDT
DTSTART:20240310T080000
END:DAYLIGHT
BEGIN:STANDARD
TZOFFSETFROM:-0500
TZOFFSETTO:-0600
TZNAME:CST
DTSTART:20241103T070000
END:STANDARD
BEGIN:DAYLIGHT
TZOFFSETFROM:-0600
TZOFFSETTO:-0500
TZNAME:CDT
DTSTART:20250309T080000
END:DAYLIGHT
BEGIN:STANDARD
TZOFFSETFROM:-0500
TZOFFSETTO:-0600
TZNAME:CST
DTSTART:20251102T070000
END:STANDARD
BEGIN:DAYLIGHT
TZOFFSETFROM:-0600
TZOFFSETTO:-0500
TZNAME:CDT
DTSTART:20260308T080000
END:DAYLIGHT
BEGIN:STANDARD
TZOFFSETFROM:-0500
TZOFFSETTO:-0600
TZNAME:CST
DTSTART:20261101T070000
END:STANDARD
END:VTIMEZONE
BEGIN:VEVENT
DTSTART;TZID=America/Chicago:20251111T130000
DTEND;TZID=America/Chicago:20251111T150000
DTSTAMP:20260423T213751
CREATED:20241210T193054Z
LAST-MODIFIED:20251021T130259Z
UID:10002738-1762866000-1762873200@www.gogreenillinois.org
SUMMARY:Go Green Illinois meeting
DESCRIPTION:Topic: School Sustainability \nRegistration is required. Sign up for our email list to receive an invitation directly.
URL:https://www.gogreenillinois.org/events/go-green-illinois-meeting-38/
LOCATION:online\, IL\, United States
CATEGORIES:GGI-Meetings
GEO:40.6331249;-89.3985283
END:VEVENT
BEGIN:VEVENT
DTSTART;TZID=America/Chicago:20250909T130000
DTEND;TZID=America/Chicago:20250909T150000
DTSTAMP:20260423T213751
CREATED:20241210T192905Z
LAST-MODIFIED:20250820T225849Z
UID:10002737-1757422800-1757430000@www.gogreenillinois.org
SUMMARY:Go Green Illinois meeting
DESCRIPTION:Topic: Overconsumption \nRegistration is required. Sign up for our email list to receive an invitation directly.
URL:https://www.gogreenillinois.org/events/go-green-illinois-meeting-37/
LOCATION:online\, IL\, United States
CATEGORIES:GGI-Meetings
GEO:40.6331249;-89.3985283
END:VEVENT
BEGIN:VEVENT
DTSTART;TZID=America/Chicago:20250708T130000
DTEND;TZID=America/Chicago:20250708T150000
DTSTAMP:20260423T213751
CREATED:20241210T192748Z
LAST-MODIFIED:20250620T134850Z
UID:10002736-1751979600-1751986800@www.gogreenillinois.org
SUMMARY:Go Green Illinois meeting
DESCRIPTION:Topic: Finding Good People to Increase Your Impact. The focus will be on the importance of having good people at all levels – elected officials\, city staff\, and grassroots groups – to achieve success in sustainability\, and how to recruit people. \nClick here to register.
URL:https://www.gogreenillinois.org/events/go-green-illinois-meeting-36/
LOCATION:online\, IL\, United States
CATEGORIES:GGI-Meetings
GEO:40.6331249;-89.3985283
END:VEVENT
BEGIN:VEVENT
DTSTART;TZID=America/Chicago:20250311T130000
DTEND;TZID=America/Chicago:20250311T150000
DTSTAMP:20260423T213751
CREATED:20241210T192324Z
LAST-MODIFIED:20250301T012922Z
UID:10002734-1741698000-1741705200@www.gogreenillinois.org
SUMMARY:Go Green Illinois meeting
DESCRIPTION:Topic: Plastics \nRegistration is required. Zoom link will be added closer to the event\, or sign up for our email list to receive an invitation directly.
URL:https://www.gogreenillinois.org/events/go-green-illinois-meeting-34/
LOCATION:online\, IL\, United States
CATEGORIES:GGI-Meetings
GEO:40.6331249;-89.3985283
END:VEVENT
BEGIN:VEVENT
DTSTART;TZID=America/Chicago:20240513T130000
DTEND;TZID=America/Chicago:20241210T150000
DTSTAMP:20260423T213751
CREATED:20241210T192634Z
LAST-MODIFIED:20241210T192634Z
UID:10002735-1715605200-1733842800@www.gogreenillinois.org
SUMMARY:Go Green Illinois meeting
DESCRIPTION:Topic: TBD \nRegistration is required. Sign up for our email list to receive an invitation directly.
URL:https://www.gogreenillinois.org/events/go-green-illinois-meeting-35/
LOCATION:online\, IL\, United States
CATEGORIES:GGI-Meetings
GEO:40.6331249;-89.3985283
END:VEVENT
BEGIN:VEVENT
DTSTART;TZID=America/Chicago:20240114T130000
DTEND;TZID=America/Chicago:20241210T150000
DTSTAMP:20260423T213751
CREATED:20241210T191700Z
LAST-MODIFIED:20241210T191700Z
UID:10002733-1705237200-1733842800@www.gogreenillinois.org
SUMMARY:Go Green Illinois meeting
DESCRIPTION:Topic: Water Quality and Conservation \nRegistration is required
URL:https://www.gogreenillinois.org/events/go-green-illinois-meeting-33/
CATEGORIES:GGI-Meetings
LOCATION:
END:VEVENT
BEGIN:VEVENT
DTSTART;TZID=America/Chicago:20231114T130000
DTEND;TZID=America/Chicago:20231114T150000
DTSTAMP:20260423T213751
CREATED:20221221T172336Z
LAST-MODIFIED:20231023T150121Z
UID:10002003-1699966800-1699974000@www.gogreenillinois.org
SUMMARY:Go Green Illinois meeting
DESCRIPTION:Topic: How to increase sustainability of Park Districts \nPlease sign up for our email newsletter on the home page to receive information on the meeting topic and registration.
URL:https://www.gogreenillinois.org/events/go-green-illinois-meeting-32/
CATEGORIES:GGI-Meetings
END:VEVENT
BEGIN:VEVENT
DTSTART;TZID=America/Chicago:20230110T130000
DTEND;TZID=America/Chicago:20230110T150000
DTSTAMP:20260423T213751
CREATED:20221221T171113Z
LAST-MODIFIED:20221221T171113Z
UID:10001998-1673355600-1673362800@www.gogreenillinois.org
SUMMARY:Go Green Illinois meeting
DESCRIPTION:Join Go Green Illinois members for a program on Sustainable Schools:  How to get started or how to make progress after Covid setbacks.\n \nRegister now for the meeting\, but please be sure to unregister if you cannot attend so we do not exceed our registration maximum. When registering\, please add your community name first\, then the name of any organization you represent for proper sorting of attendees.\n\n \nRegister here.
URL:https://www.gogreenillinois.org/events/go-green-illinois-meeting-7/
LOCATION:online\, IL\, United States
CATEGORIES:GGI-Meetings
GEO:40.6331249;-89.3985283
END:VEVENT
BEGIN:VEVENT
DTSTART;TZID=America/Chicago:20221115T130000
DTEND;TZID=America/Chicago:20221115T150000
DTSTAMP:20260423T213751
CREATED:20211215T183330Z
LAST-MODIFIED:20221114T182813Z
UID:10001853-1668517200-1668524400@www.gogreenillinois.org
SUMMARY:Go Green Illinois meeting
DESCRIPTION:Topic: Regional greenhouse gas emissions: how to use data to inform your local work \nRegister here for this virtual meeting.
URL:https://www.gogreenillinois.org/events/go-green-illinois-meeting-6/
LOCATION:IL\, United States
CATEGORIES:GGI-Meetings
GEO:40.6331249;-89.3985283
END:VEVENT
BEGIN:VEVENT
DTSTART;TZID=America/Chicago:20220913T130000
DTEND;TZID=America/Chicago:20220913T150000
DTSTAMP:20260423T213751
CREATED:20211215T183216Z
LAST-MODIFIED:20220801T163811Z
UID:10001852-1663074000-1663081200@www.gogreenillinois.org
SUMMARY:Go Green Illinois meeting
DESCRIPTION:Topic: Join us for an important discussion about the plastic crisis.  Learn about legislation to reduce the inflow of single-use plastics and how community groups are working to bring reuse back into the economy. Register here.
URL:https://www.gogreenillinois.org/events/go-green-illinois-meeting-5/
LOCATION:IL\, United States
CATEGORIES:GGI-Meetings
GEO:40.6331249;-89.3985283
END:VEVENT
BEGIN:VEVENT
DTSTART;TZID=America/Chicago:20220712T130000
DTEND;TZID=America/Chicago:20220712T150000
DTSTAMP:20260423T213751
CREATED:20211215T183119Z
LAST-MODIFIED:20220707T205038Z
UID:10001851-1657630800-1657638000@www.gogreenillinois.org
SUMMARY:Go Green Illinois meeting
DESCRIPTION:Topic: Making progress in your community through ordinances\, local policy and certification programs. The format will be a panel of experts including elected and appointed municipal leaders on sustainability. Open to all. \nRegister here.
URL:https://www.gogreenillinois.org/events/go-green-illinois-meeting-4/
LOCATION:IL\, United States
CATEGORIES:GGI-Meetings
GEO:40.6331249;-89.3985283
END:VEVENT
BEGIN:VEVENT
DTSTART;TZID=America/Chicago:20220510T130000
DTEND;TZID=America/Chicago:20220510T150000
DTSTAMP:20260423T213751
CREATED:20211215T183024Z
LAST-MODIFIED:20220427T135914Z
UID:10001850-1652187600-1652194800@www.gogreenillinois.org
SUMMARY:Go Green Illinois meeting
DESCRIPTION:At our May program\, we will hear from experts about how we can upend our car-dominated culture and promote the value of walking\, biking and using transit. Speakers include: Audrey Wennink\, Director of Transportation\, Metropolitan Planning Council; Maggie Czerwinski\, Advocacy Manager\, Active Transportation Alliance; and Edith Makra\, Director of Environmental Initiatives at the Metropolitan Mayors Caucus. State Representative Robyn Gabel will also provide an update on her work on electric vehicle legislation in Springfield. Registration is required.
URL:https://www.gogreenillinois.org/events/go-green-illinois-meeting-3/
LOCATION:IL\, United States
CATEGORIES:GGI-Meetings
GEO:40.6331249;-89.3985283
END:VEVENT
BEGIN:VEVENT
DTSTART;TZID=America/Chicago:20220308T130000
DTEND;TZID=America/Chicago:20220308T150000
DTSTAMP:20260423T213751
CREATED:20211215T182809Z
LAST-MODIFIED:20220114T165230Z
UID:10001849-1646744400-1646751600@www.gogreenillinois.org
SUMMARY:Go Green Illinois meeting
DESCRIPTION:Topic: Habitats and Landscape Practices \nRegister here to receive the zoom link.
URL:https://www.gogreenillinois.org/events/go-green-illinois-meeting-2/
LOCATION:online\, IL\, United States
CATEGORIES:GGI-Meetings
GEO:40.6331249;-89.3985283
END:VEVENT
BEGIN:VEVENT
DTSTART;TZID=America/Chicago:20220111T130000
DTEND;TZID=America/Chicago:20220111T150000
DTSTAMP:20260423T213751
CREATED:20211215T182538Z
LAST-MODIFIED:20211215T182920Z
UID:10001848-1641906000-1641913200@www.gogreenillinois.org
SUMMARY:Go Green Illinois meeting
DESCRIPTION:Topic: Energy efficiency\, renewable energy\, CEJA implementation. \nThis meeting will be held virtually.
URL:https://www.gogreenillinois.org/events/go-green-illinois-meeting/
LOCATION:online\, IL\, United States
CATEGORIES:GGI-Meetings
GEO:40.6331249;-89.3985283
END:VEVENT
BEGIN:VEVENT
DTSTART;TZID=America/Chicago:20211116T130000
DTEND;TZID=America/Chicago:20211116T150000
DTSTAMP:20260423T213751
CREATED:20210103T150155Z
LAST-MODIFIED:20210928T213940Z
UID:10001689-1637067600-1637074800@www.gogreenillinois.org
SUMMARY:Go Green Illinois meeting
DESCRIPTION:Topic: Climate Action Plan \nNote that the date is one week later than originally planned. Registration is required for this online meeting.
URL:https://www.gogreenillinois.org/events/go-green-illinois-meeting-29/
LOCATION:IL\, United States
CATEGORIES:GGI-Meetings
ATTACH;FMTTYPE=image/png:https://www.gogreenillinois.org/wp-content/uploads/2017/02/GGI_Logo-e1528150643990.png
GEO:40.6331249;-89.3985283
END:VEVENT
BEGIN:VEVENT
DTSTART;TZID=America/Chicago:20210914T130000
DTEND;TZID=America/Chicago:20210914T150000
DTSTAMP:20260423T213751
CREATED:20210103T150042Z
LAST-MODIFIED:20210103T150042Z
UID:10001688-1631624400-1631631600@www.gogreenillinois.org
SUMMARY:Go Green Illinois meeting
DESCRIPTION:Topic: TBD
URL:https://www.gogreenillinois.org/events/go-green-illinois-meeting-28/
LOCATION:online\, IL\, United States
CATEGORIES:GGI-Meetings
ATTACH;FMTTYPE=image/png:https://www.gogreenillinois.org/wp-content/uploads/2017/02/GGI_Logo-e1528150643990.png
GEO:40.6331249;-89.3985283
END:VEVENT
BEGIN:VEVENT
DTSTART;TZID=America/Chicago:20210713T130000
DTEND;TZID=America/Chicago:20210713T150000
DTSTAMP:20260423T213751
CREATED:20210103T145850Z
LAST-MODIFIED:20210707T151517Z
UID:10001687-1626181200-1626188400@www.gogreenillinois.org
SUMMARY:Cancelled: Go Green Illinois meeting
DESCRIPTION:This meeting has been cancelled to enable everyone to instead participate in the launch of the regional Climate Action Plan.
URL:https://www.gogreenillinois.org/events/go-green-illinois-meeting-27/
LOCATION:online\, IL\, United States
CATEGORIES:GGI-Meetings
ATTACH;FMTTYPE=image/png:https://www.gogreenillinois.org/wp-content/uploads/2017/02/GGI_Logo-e1528150643990.png
GEO:40.6331249;-89.3985283
END:VEVENT
BEGIN:VEVENT
DTSTART;TZID=America/Chicago:20210511T130000
DTEND;TZID=America/Chicago:20210511T150000
DTSTAMP:20260423T213751
CREATED:20210103T145728Z
LAST-MODIFIED:20210403T135831Z
UID:10001686-1620738000-1620745200@www.gogreenillinois.org
SUMMARY:Go Green Illinois meeting
DESCRIPTION:Topic:  Waste Reduction and Diversion \nThis will be a virtual meeting. To receive the link to register\, please sign up for our email list or contact us. \n  \n 
URL:https://www.gogreenillinois.org/events/go-green-illinois-meeting-26/
LOCATION:Online\, Online\, Online\, 00000\, Philippines
CATEGORIES:GGI-Meetings
ATTACH;FMTTYPE=image/png:https://www.gogreenillinois.org/wp-content/uploads/2017/02/GGI_Logo-e1528150643990.png
GEO:42.0805743;-87.7320368
X-APPLE-STRUCTURED-LOCATION;VALUE=URI;X-ADDRESS=Online Online Online 00000 Philippines;X-APPLE-RADIUS=500;X-TITLE=Online:geo:-87.7320368,42.0805743
END:VEVENT
BEGIN:VEVENT
DTSTART;TZID=America/Chicago:20210309T130000
DTEND;TZID=America/Chicago:20210309T150000
DTSTAMP:20260423T213751
CREATED:20210103T145610Z
LAST-MODIFIED:20210217T151751Z
UID:10001685-1615294800-1615302000@www.gogreenillinois.org
SUMMARY:Go Green Illinois meeting
DESCRIPTION:Topics: Water Conservation and Sustainable Landscaping \n 
URL:https://www.gogreenillinois.org/events/go-green-illinois-meeting-25/
LOCATION:IL\, United States
CATEGORIES:GGI-Meetings
ATTACH;FMTTYPE=image/png:https://www.gogreenillinois.org/wp-content/uploads/2017/02/GGI_Logo-e1528150643990.png
GEO:40.6331249;-89.3985283
END:VEVENT
BEGIN:VEVENT
DTSTART;TZID=America/Chicago:20210112T130000
DTEND;TZID=America/Chicago:20210112T150000
DTSTAMP:20260423T213751
CREATED:20210103T145432Z
LAST-MODIFIED:20210103T145432Z
UID:10001684-1610456400-1610463600@www.gogreenillinois.org
SUMMARY:Go Green Illinois meeting
DESCRIPTION:Topic: Getting your suburb ready for Electric Vehicles\nThe meeting will focus on how your group can help get your suburb ready for the transition to electric vehicles. The Metropolitan Mayors’ Caucus EV Ready program provides tools to help put in place the policy and infrastructure for electrification. Electric car shows provide a good opportunity for people to see many different vehicles in one place\, and hear from vehicle owners about their experiences driving electric. Now is the time to think about organizing an event for the spring. We will briefly review policies for municipal fleets and building codes changes. Guest speakers will teach us about these ideas and more in January. We hope you will join us! \nIf you’d like to learn more before our meeting\, click here to see a campaign to demystify electric vehicle ownership and here and here to read more about Zero Emission Vehicle (ZEV) state requirements. \nYou must click here to register for the meeting. After registering\, you will receive the sign on link by email.
URL:https://www.gogreenillinois.org/events/go-green-illinois-meeting-24/
LOCATION:Online\, Online\, Online\, 00000\, Philippines
CATEGORIES:GGI-Meetings
ATTACH;FMTTYPE=image/png:https://www.gogreenillinois.org/wp-content/uploads/2017/02/GGI_Logo-e1528150643990.png
GEO:42.0805743;-87.7320368
X-APPLE-STRUCTURED-LOCATION;VALUE=URI;X-ADDRESS=Online Online Online 00000 Philippines;X-APPLE-RADIUS=500;X-TITLE=Online:geo:-87.7320368,42.0805743
END:VEVENT
BEGIN:VEVENT
DTSTART;TZID=America/Chicago:20201110T130000
DTEND;TZID=America/Chicago:20201110T150000
DTSTAMP:20260423T213751
CREATED:20190923T235448Z
LAST-MODIFIED:20200311T150802Z
UID:10001503-1605013200-1605020400@www.gogreenillinois.org
SUMMARY:Go Green Illinois meeting
DESCRIPTION:Topic TBD
URL:https://www.gogreenillinois.org/events/go-green-illinois-meeting-23/
LOCATION:Chicago Botanic Garden\, 1000 Lake Cook Road\, Glencoe\, IL\, 60022\, United States
CATEGORIES:GGI-Meetings
ATTACH;FMTTYPE=image/png:https://www.gogreenillinois.org/wp-content/uploads/2017/02/GGI_Logo-e1528150643990.png
GEO:42.1489747;-87.7896907
X-APPLE-STRUCTURED-LOCATION;VALUE=URI;X-ADDRESS=Chicago Botanic Garden 1000 Lake Cook Road Glencoe IL 60022 United States;X-APPLE-RADIUS=500;X-TITLE=1000 Lake Cook Road:geo:-87.7896907,42.1489747
END:VEVENT
BEGIN:VEVENT
DTSTART;TZID=America/Chicago:20200908T130000
DTEND;TZID=America/Chicago:20200908T150000
DTSTAMP:20260423T213751
CREATED:20190923T235346Z
LAST-MODIFIED:20200828T194440Z
UID:10001502-1599570000-1599577200@www.gogreenillinois.org
SUMMARY:Go Green Illinois meeting
DESCRIPTION:Topic: Having difficult conversations/talking with people with different views. \nTo register for the meeting and receive the zoom link\, click here. \nPrior to the meeting\, please watch one or both of these TED talks: \nKatharine Hayhoe TED Talk\nJ. Marshall Shepherd TED Talk 
URL:https://www.gogreenillinois.org/events/go-green-illinois-meeting-22/
LOCATION:Zoom
CATEGORIES:GGI-Meetings
ATTACH;FMTTYPE=image/png:https://www.gogreenillinois.org/wp-content/uploads/2017/02/GGI_Logo-e1528150643990.png
END:VEVENT
BEGIN:VEVENT
DTSTART;TZID=America/Chicago:20200714T080000
DTEND;TZID=America/Chicago:20200714T170000
DTSTAMP:20260423T213751
CREATED:20190923T235251Z
LAST-MODIFIED:20191120T172857Z
UID:10001501-1594713600-1594746000@www.gogreenillinois.org
SUMMARY:Go Green Illinois meeting
DESCRIPTION:Topic TBD
URL:https://www.gogreenillinois.org/events/go-green-illinois-meeting-21/
LOCATION:Chicago Botanic Garden\, 1000 Lake Cook Road\, Glencoe\, IL\, 60022\, United States
CATEGORIES:GGI-Meetings
GEO:42.1489747;-87.7896907
X-APPLE-STRUCTURED-LOCATION;VALUE=URI;X-ADDRESS=Chicago Botanic Garden 1000 Lake Cook Road Glencoe IL 60022 United States;X-APPLE-RADIUS=500;X-TITLE=1000 Lake Cook Road:geo:-87.7896907,42.1489747
END:VEVENT
BEGIN:VEVENT
DTSTART;TZID=America/Chicago:20200512T130000
DTEND;TZID=America/Chicago:20200512T150000
DTSTAMP:20260423T213751
CREATED:20190923T235045Z
LAST-MODIFIED:20200311T145527Z
UID:10001500-1589288400-1589295600@www.gogreenillinois.org
SUMMARY:Go Green Illinois meeting
DESCRIPTION:Topic Water
URL:https://www.gogreenillinois.org/events/go-green-illinois-meeting-20/
LOCATION:Chicago Botanic Garden\, 1000 Lake Cook Road\, Glencoe\, IL\, 60022\, United States
CATEGORIES:GGI-Meetings
GEO:42.1489747;-87.7896907
X-APPLE-STRUCTURED-LOCATION;VALUE=URI;X-ADDRESS=Chicago Botanic Garden 1000 Lake Cook Road Glencoe IL 60022 United States;X-APPLE-RADIUS=500;X-TITLE=1000 Lake Cook Road:geo:-87.7896907,42.1489747
END:VEVENT
BEGIN:VEVENT
DTSTART;TZID=America/Chicago:20200312T100000
DTEND;TZID=America/Chicago:20200312T110000
DTSTAMP:20260423T213751
CREATED:20200227T192221Z
LAST-MODIFIED:20200312T144718Z
UID:10001572-1584007200-1584010800@www.gogreenillinois.org
SUMMARY:EPA: Environmental Education for Schools
DESCRIPTION:U.S. EPA Presentation for Go Green Illinois Schools \nU.S. EPA is joining GGILS to share EPA’s tools and resources. EPA’s energy efficiency\, environmental health\, citizen science and air monitoring and water sampling resources will be highlighted as well as information about EPA speaker’s bureau. Speakers are Kara Belle\, School Assistance Center Coordinator\, U.S. Environmental Protection Agency and Megan Gavin\, Environmental Education Coordinator\, U.S. Environmental Protection Agency. \nPlease arrive 15 minutes early to check in – RSVP HERE
URL:https://www.gogreenillinois.org/events/epa-environmental-education-for-schools/
LOCATION:Joseph Sears School\, 542 Abbotsford Rd.\, Kenilworth\, IL\, 60043\, United States
CATEGORIES:GGW Import,Other Events
GEO:42.0896523;-87.7182606
X-APPLE-STRUCTURED-LOCATION;VALUE=URI;X-ADDRESS=Joseph Sears School 542 Abbotsford Rd. Kenilworth IL 60043 United States;X-APPLE-RADIUS=500;X-TITLE=542 Abbotsford Rd.:geo:-87.7182606,42.0896523
END:VEVENT
BEGIN:VEVENT
DTSTART;TZID=America/Chicago:20200310T130000
DTEND;TZID=America/Chicago:20200310T150000
DTSTAMP:20260423T213751
CREATED:20190923T234923Z
LAST-MODIFIED:20200117T162503Z
UID:10001499-1583845200-1583852400@www.gogreenillinois.org
SUMMARY:Go Green Illinois meeting
DESCRIPTION:Topic: Transportation
URL:https://www.gogreenillinois.org/events/go-green-illinois-meeting-19/
LOCATION:Chicago Botanic Garden\, 1000 Lake Cook Road\, Glencoe\, IL\, 60022\, United States
CATEGORIES:GGI-Meetings
GEO:42.1489747;-87.7896907
X-APPLE-STRUCTURED-LOCATION;VALUE=URI;X-ADDRESS=Chicago Botanic Garden 1000 Lake Cook Road Glencoe IL 60022 United States;X-APPLE-RADIUS=500;X-TITLE=1000 Lake Cook Road:geo:-87.7896907,42.1489747
END:VEVENT
BEGIN:VEVENT
DTSTART;TZID=America/Chicago:20200129T115000
DTEND;TZID=America/Chicago:20200129T130000
DTSTAMP:20260423T213751
CREATED:20200111T190503Z
LAST-MODIFIED:20200127T173228Z
UID:10001543-1580298600-1580302800@www.gogreenillinois.org
SUMMARY:Go Green Illinois Schools Meeting
DESCRIPTION: Go Green Illinois Schools Meeting (run by Katie Narhwold of GGILS and Go Green Kenilworth)\n\n\nJoin Go Green Illinois Schools for its Winter Meeting and learn about Ravinia School’s amazing greenhouse and their Green Growers student club. Students use a hydroponic system to grow lettuces in the fall and winter months\, selling some produce to a local restaurant\, and then shift to soil\, growing flowers and plants for spring plant sales.
URL:https://www.gogreenillinois.org/events/go-green-illinois-schools-meeting-2/
LOCATION:Ravinia Elementary School\, 763 Dean Ave.\, Highland Park\, IL\, 60035\, United States
CATEGORIES:GGW Import,Other Events
GEO:42.1662895;-87.7797889
X-APPLE-STRUCTURED-LOCATION;VALUE=URI;X-ADDRESS=Ravinia Elementary School 763 Dean Ave. Highland Park IL 60035 United States;X-APPLE-RADIUS=500;X-TITLE=763 Dean Ave.:geo:-87.7797889,42.1662895
END:VEVENT
BEGIN:VEVENT
DTSTART;TZID=America/Chicago:20200114T130000
DTEND;TZID=America/Chicago:20200114T150000
DTSTAMP:20260423T213751
CREATED:20190923T234805Z
LAST-MODIFIED:20191120T172506Z
UID:10001498-1579006800-1579014000@www.gogreenillinois.org
SUMMARY:Go Green Illinois meeting
DESCRIPTION:
URL:https://www.gogreenillinois.org/events/go-green-illinois-meeting-18/
LOCATION:Chicago Botanic Garden\, 1000 Lake Cook Road\, Glencoe\, IL\, 60022\, United States
CATEGORIES:GGI-Meetings
GEO:42.1489747;-87.7896907
X-APPLE-STRUCTURED-LOCATION;VALUE=URI;X-ADDRESS=Chicago Botanic Garden 1000 Lake Cook Road Glencoe IL 60022 United States;X-APPLE-RADIUS=500;X-TITLE=1000 Lake Cook Road:geo:-87.7896907,42.1489747
END:VEVENT
BEGIN:VEVENT
DTSTART;TZID=America/Chicago:20191112T130000
DTEND;TZID=America/Chicago:20191112T150000
DTSTAMP:20260423T213751
CREATED:20180911T152453Z
LAST-MODIFIED:20190923T234614Z
UID:10000005-1573563600-1573570800@www.gogreenillinois.org
SUMMARY:Go Green Illinois meeting
DESCRIPTION:Topic: Business Partnerships
URL:https://www.gogreenillinois.org/events/go-green-illinois-meeting-16/
LOCATION:Chicago Botanic Garden\, 1000 Lake Cook Road\, Glencoe\, IL\, 60022\, United States
CATEGORIES:GGI-Meetings
GEO:42.1489747;-87.7896907
X-APPLE-STRUCTURED-LOCATION;VALUE=URI;X-ADDRESS=Chicago Botanic Garden 1000 Lake Cook Road Glencoe IL 60022 United States;X-APPLE-RADIUS=500;X-TITLE=1000 Lake Cook Road:geo:-87.7896907,42.1489747
END:VEVENT
BEGIN:VEVENT
DTSTART;TZID=America/Chicago:20190910T130000
DTEND;TZID=America/Chicago:20190910T150000
DTSTAMP:20260423T213751
CREATED:20180911T152350Z
LAST-MODIFIED:20180911T152350Z
UID:10000041-1568120400-1568127600@www.gogreenillinois.org
SUMMARY:Go Green Illinois meeting
DESCRIPTION:Topic TBD
URL:https://www.gogreenillinois.org/events/go-green-illinois-meeting-15/
LOCATION:Chicago Botanic Garden\, 1000 Lake Cook Road\, Glencoe\, IL\, 60022\, United States
CATEGORIES:GGI-Meetings
GEO:42.1489747;-87.7896907
X-APPLE-STRUCTURED-LOCATION;VALUE=URI;X-ADDRESS=Chicago Botanic Garden 1000 Lake Cook Road Glencoe IL 60022 United States;X-APPLE-RADIUS=500;X-TITLE=1000 Lake Cook Road:geo:-87.7896907,42.1489747
END:VEVENT
END:VCALENDAR